BEGIN:VCALENDAR
VERSION:2.0
PRODID:-//Associació de Voluntaris de Protecció Civil de Vacarisses - ECPv5.7.0//NONSGML v1.0//EN
CALSCALE:GREGORIAN
METHOD:PUBLISH
X-WR-CALNAME:Associació de Voluntaris de Protecció Civil de Vacarisses
X-ORIGINAL-URL:http://www.pcvacarisses.org
X-WR-CALDESC:Events for Associació de Voluntaris de Protecció Civil de Vacarisses
BEGIN:VTIMEZONE
TZID:Europe/Helsinki
BEGIN:DAYLIGHT
TZOFFSETFROM:+0200
TZOFFSETTO:+0300
TZNAME:EEST
DTSTART:20210328T010000
END:DAYLIGHT
BEGIN:STANDARD
TZOFFSETFROM:+0300
TZOFFSETTO:+0200
TZNAME:EET
DTSTART:20211031T010000
END:STANDARD
END:VTIMEZONE
BEGIN:VEVENT
DTSTART;VALUE=DATE:20210606
DTEND;VALUE=DATE:20210607
DTSTAMP:20260424T151336
CREATED:20210531T111204Z
LAST-MODIFIED:20210531T111556Z
UID:180-1622937600-1623023999@www.pcvacarisses.org
SUMMARY:Guardia
DESCRIPTION:guardia dia
URL:http://www.pcvacarisses.org/event/guardia/
LOCATION:Victor 0
END:VEVENT
END:VCALENDAR